BEGIN:VCALENDAR
VERSION:2.0
PRODID:-//Squarespace Inc/Squarespace 6//v6//EN
BEGIN:VEVENT
UID:5db78aad48dca06f69312f62@squarespace.com
DTSTAMP:20191029T010321Z
DTSTART:20191202T033000Z
DTEND:20191202T043000Z
SUMMARY:The Changing Room: Book Talk at Tea Gardens Library
GEO:-32.669272;152.164459
LOCATION:Tea Gardens Library\, 135 Marine Drive\, Tea Gardens\, NSW\, 2324\
 , Australia
END:VEVENT
END:VCALENDAR
