BEGIN:VCALENDAR
VERSION:2.0
PRODID:-//Squarespace Inc/Squarespace 6//v6//EN
BEGIN:VEVENT
UID:5db78bfa71005f1c8c91a43b@squarespace.com
DTSTAMP:20191029T005004Z
DTSTART:20191203T080000Z
DTEND:20191203T100000Z
SUMMARY:The Changing Room: Book Talk at Forster Library
GEO:-32.200852;152.521765
LOCATION:Forster Library\, 4-12 Breese Parade\, Forster\, NSW\, 2428\, Aust
 ralia
END:VEVENT
END:VCALENDAR
