BEGIN:VCALENDAR
VERSION:2.0
PRODID:-//Squarespace Inc/Squarespace 6//v6//EN
BEGIN:VEVENT
UID:5db78cd18b4878624ac7a977@squarespace.com
DTSTAMP:20191029T005651Z
DTSTART:20191204T010000Z
DTEND:20191204T020000Z
SUMMARY:The Changing Room: Book Talk at Taree Library
GEO:-31.914739;152.459573
LOCATION:Taree Library\, 242 Victoria Street\, Taree\, NSW\, 2430\, Austral
 ia
END:VEVENT
END:VCALENDAR
