BEGIN:VCALENDAR
VERSION:2.0
PRODID:-//Squarespace Inc/Squarespace 6//v6//EN
BEGIN:VEVENT
UID:5db78eb79f0f297157382ff0@squarespace.com
DTSTAMP:20191029T010201Z
DTSTART:20191209T073000Z
DTEND:20191209T093000Z
SUMMARY:The Changing Room: Book Talk at Lake Haven Library
GEO:-33.243967;151.507936
LOCATION:Lake Haven Library\, Goobarabah Avenue\, Lake Haven\, NSW\, 2263\, 
 Australia
END:VEVENT
END:VCALENDAR
