BEGIN:VCALENDAR
VERSION:2.0
PRODID:-//Squarespace Inc/Squarespace 6//v6//EN
BEGIN:VEVENT
UID:5d2534ff5b7e68000162205c@squarespace.com
DTSTAMP:20190910T002222Z
DTSTART:20190921T080000Z
DTEND:20190921T100000Z
SUMMARY:Jane Sullivan in conversation with Peter Goldsworthy
GEO:-35.005663;138.71782
LOCATION:Coventry Library\, 63 Mount Barker Road\, Stirling\, SA\, 5152\, A
 ustralia
END:VEVENT
END:VCALENDAR
