BEGIN:VCALENDAR
VERSION:2.0
PRODID:-//Squarespace Inc/Squarespace 6//v6//EN
BEGIN:VEVENT
UID:5d11b3910985c6000121f331@squarespace.com
DTSTAMP:20190910T001951Z
DTSTART:20190912T080000Z
DTEND:20190912T100000Z
SUMMARY:Launch of Special by Melanie Dimmitt\, Sydney
GEO:-33.895984;151.180285
LOCATION:Better Read Than Dead\, 265 King Street\, Newtown\, NSW\, 2042\, A
 ustralia
END:VEVENT
END:VCALENDAR
