BEGIN:VCALENDAR
VERSION:2.0
PRODID:-//Squarespace Inc/Squarespace 6//v6//EN
BEGIN:VEVENT
UID:5d71a728f7a8e30001006d02@squarespace.com
DTSTAMP:20190910T002138Z
DTSTART:20190914T003000Z
DTEND:20190915T073000Z
SUMMARY:Katherine Johnson @ Hobart Writers' Festival 
GEO:-42.882138;147.327195
LOCATION:Hobart TAS
END:VEVENT
END:VCALENDAR
