BEGIN:VCALENDAR
VERSION:2.0
PRODID:-//Squarespace Inc/Squarespace 6//v6//EN
BEGIN:VEVENT
UID:5d674b9787dacd00010673f3@squarespace.com
DTSTAMP:20190910T002827Z
DTSTART:20190923T083000Z
DTEND:20190923T103000Z
SUMMARY:Launch of Special by Melanie Dimmitt\, Perth
GEO:-31.986445;115.904528
LOCATION:Crow Books\, 900 Albany Highway\, #1\, East Victoria Park\, WA\, 6
 101\, Australia
END:VEVENT
END:VCALENDAR
