BEGIN:VCALENDAR
VERSION:2.0
PRODID:-//Squarespace Inc/Squarespace 6//v6//EN
BEGIN:VEVENT
UID:5d1198e64836d10001779591@squarespace.com
DTSTAMP:20190910T002836Z
DTSTART:20190925T083000Z
DTEND:20190925T103000Z
SUMMARY:Launch of Special by Melanie Dimmitt\, Melbourne 
GEO:-37.79806;144.967122
LOCATION:Readings Carlton\, 309 Lygon Street\, Carlton\, VIC\, 3053\, Austr
 alia
END:VEVENT
END:VCALENDAR
