BEGIN:VCALENDAR
VERSION:2.0
PRODID:-//Squarespace Inc/Squarespace 6//v6//EN
BEGIN:VEVENT
UID:5d71acd7c5e6b7000180a09e@squarespace.com
DTSTAMP:20190910T002559Z
DTSTART:20190926T083000Z
DTEND:20190926T103000Z
SUMMARY:Launch of Paris Savages in Melbourne
GEO:-37.863256;145.080394
LOCATION:The Leaf Bookshop\, 3/283 High St\, Ashburton VIC\, Australia
END:VEVENT
END:VCALENDAR
