BEGIN:VCALENDAR
VERSION:2.0
PRODID:-//Squarespace Inc/Squarespace 6//v6//EN
BEGIN:VEVENT
UID:5e55da0509132e2873e9cd7f@squarespace.com
DTSTAMP:20200226T024315Z
DTSTART:20200227T070000Z
DTEND:20200227T080000Z
SUMMARY:Katherine Johnson In Conversation with Karen Viggers at Muse Canber
 ra
GEO:-35.31935;149.137096
LOCATION:Muse Bookshop\, 69 Canberra Avenue\, Kingston\, ACT\, 2603\, Austr
 alia
END:VEVENT
END:VCALENDAR
