BEGIN:VCALENDAR
VERSION:2.0
PRODID:-//Squarespace Inc/Squarespace 6//v6//EN
BEGIN:VEVENT
UID:5d71bc1ce08d790001fc6b5f@squarespace.com
DTSTAMP:20190910T002611Z
DTSTART:20191009T073000Z
DTEND:20191009T093000Z
SUMMARY:Katherine Johnson in conversation with Evelyn Araluen
GEO:-33.895984;151.180285
LOCATION:Better Read Than Dead\, 265 King Street\, Newtown\, NSW\, 2042\, A
 ustralia
END:VEVENT
END:VCALENDAR
