BEGIN:VCALENDAR
VERSION:2.0
PRODID:-//Squarespace Inc/Squarespace 6//v6//EN
BEGIN:VEVENT
UID:5d71c130873e0f0001bcc35f@squarespace.com
DTSTAMP:20190910T002629Z
DTSTART:20191017T063000Z
DTEND:20191017T083000Z
SUMMARY:Katherine Johnson in conversation with Geordie Williamson
GEO:-42.884197;147.326129
LOCATION:Fullers Bookshop\, 131 Collins Street\, Hobart\, TAS\, 7000\, Aust
 ralia
END:VEVENT
END:VCALENDAR
