BEGIN:VCALENDAR
VERSION:2.0
PRODID:-//Squarespace Inc/Squarespace 6//v6//EN
BEGIN:VEVENT
UID:5d71cba80aa040000139a975@squarespace.com
DTSTAMP:20190910T002746Z
DTSTART:20191029T070000Z
DTEND:20191029T090000Z
SUMMARY:Launch of Paris Savages in Hervey Bay
GEO:-25.284502;152.868311
LOCATION:Books By The Sea\, 414b Charlton Esplanade\, Torquay\, QLD\, 4655\
 , Australia
END:VEVENT
END:VCALENDAR
