BEGIN:VCALENDAR
VERSION:2.0
PRODID:-//Squarespace Inc/Squarespace 6//v6//EN
BEGIN:VEVENT
UID:5d71d7a9873e0f0001bea4d8@squarespace.com
DTSTAMP:20190910T002759Z
DTSTART:20191114T070000Z
DTEND:20191114T090000Z
SUMMARY:Launch of Paris Savages in Launceston
GEO:-41.436941;147.140097
LOCATION:Petrarch's Bookshop\, 89 Brisbane Street\, Launceston\, TAS\, 7250
 \, Australia
END:VEVENT
END:VCALENDAR
