BEGIN:VCALENDAR
VERSION:2.0
PRODID:-//Squarespace Inc/Squarespace 6//v6//EN
BEGIN:VEVENT
UID:5d71d946f7a8e30001049a47@squarespace.com
DTSTAMP:20190910T002649Z
DTSTART:20191022T073000Z
DTEND:20191022T090000Z
SUMMARY:Launch of Paris Savages at Readings Hawthorn
GEO:-37.81966;145.03558
LOCATION:Readings Hawthorn\, 701 Glenferrie Rd\, Hawthorn VIC\, Australia
END:VEVENT
END:VCALENDAR
