BEGIN:VCALENDAR
VERSION:2.0
PRODID:-//Squarespace Inc/Squarespace 6//v6//EN
BEGIN:VEVENT
UID:5d71cf9c43214100013330af@squarespace.com
DTSTAMP:20190910T002711Z
DTSTART:20191028T073000Z
DTEND:20191028T093000Z
SUMMARY:Launch of Paris Savages in Brisbane
GEO:-27.45188;153.061127
LOCATION:Riverbend\, 193 Oxford Street\, Bulimba\, QLD\, 4171\, Australia
END:VEVENT
END:VCALENDAR
