BEGIN:VCALENDAR
VERSION:2.0
PRODID:-//Squarespace Inc/Squarespace 6//v6//EN
BEGIN:VEVENT
UID:5d1194bd0985c60001204a81@squarespace.com
DTSTAMP:20190625T034534Z
DTSTART:20190826T220000Z
DTEND:20190827T000000Z
SUMMARY:Split - Lee Kofman in conversation with Kate Holden and Fiona Wrigh
 t
GEO:-33.883138;151.191624
LOCATION:Gleebooks\, 49 Glebe Point Road\, Glebe\, NSW\, 2037\, Australia
END:VEVENT
END:VCALENDAR
