BEGIN:VCALENDAR
VERSION:2.0
PRODID:-//Squarespace Inc/Squarespace 6//v6//EN
BEGIN:VEVENT
UID:5d252dd2e98b1100014a3c25@squarespace.com
DTSTAMP:20190710T002941Z
DTSTART:20190806T220000Z
DTEND:20190807T010000Z
SUMMARY:Jane Sullivan In Conversation with Jason Steger - Storytime
GEO:-37.79806;144.967122
LOCATION:Readings Carlton\, 309 Lygon Street\, Carlton\, VIC\, 3053\, Austr
 alia
END:VEVENT
END:VCALENDAR
