BEGIN:VCALENDAR
VERSION:2.0
PRODID:-//Squarespace Inc/Squarespace 6//v6//EN
BEGIN:VEVENT
UID:5d25317edca4f500019c6364@squarespace.com
DTSTAMP:20190710T004357Z
DTSTART:20190828T223000Z
DTEND:20190828T233000Z
SUMMARY:Jane Sullivan in conversation with Melanie Kembrey 
GEO:-33.895984;151.180285
LOCATION:Better Read Than Dead\, 265 King Street\, Newtown\, NSW\, 2042\, A
 ustralia
END:VEVENT
END:VCALENDAR
